BEGIN:VCALENDAR
VERSION:2.0
BEGIN:VEVENT
SUMMARY:Kemastry Album Launch X Banger After Banger at REinsTate - The Tate Institute
DESCRIPTION:Kemastry Firework Factory Album Launch X Banger After Banger\n
DTSTART:20260517T120000Z
DTEND:20260517T200000Z
LOCATION:1 Wythes Rd\, London E16 2DN\, UK
END:VEVENT
END:VCALENDAR