BEGIN:VCALENDAR
VERSION:2.0
BEGIN:VEVENT
SUMMARY:Banner Making Workshop at REinsTate - The Tate Institute
DESCRIPTION:Come and make protest posters and banners ahead of the International Workers Day protest on 4 May. This free session focuses on fighting to end the exploitation of young creatives and interns\, but everyone is welcome to get involved. Materials are provided\, and you are welcome to bring your own drinks.\nhttps://www.instagram.com/p/DXEtZDCCFZ7/\n
DTSTART:20260501T170000Z
DTEND:20260501T200000Z
LOCATION:1 Wythes Rd\, London E16 2DN\, UK
END:VEVENT
END:VCALENDAR